BEGIN:VCALENDAR
VERSION:2.0
PRODID:icalendar-ruby
CALSCALE:GREGORIAN
METHOD:PUBLISH
BEGIN:VTIMEZONE
TZID:Australia/Brisbane
BEGIN:STANDARD
DTSTART:19920301T020000
TZOFFSETFROM:+1100
TZOFFSETTO:+1000
TZNAME:AEST
END:STANDARD
END:VTIMEZONE
BEGIN:VEVENT
DTSTAMP:20260423T100532Z
UID:inspection_3008137
DTSTART;TZID=Australia/Brisbane:20260423T123000
DTEND;TZID=Australia/Brisbane:20260423T124500
CLASS:PUBLIC
CREATED:20260421T175357
DESCRIPTION: 
LAST-MODIFIED:20260421T175357
LOCATION:18 Wirraway Street\, STRATHPINE QLD 4500\, Australia
SUMMARY:18 Wirraway Street\,  Inspection
URL;VALUE=URI:https://www.clarkpartners.com.au/
END:VEVENT
END:VCALENDAR
